BEGIN:VCALENDAR
VERSION:2.0
PRODID:-//wp-events-plugin.com//7.2.3.1//EN
BEGIN:VEVENT
UID:21@bjv-naila.de
DTSTART:20250528T170000Z
DTEND:20250528T200000Z
DTSTAMP:20250106T182123Z
URL:https://bjv-naila.de/events/kugelschiessen-fuer-jaegerinnen-und-jaeger
 -2025-05-28/
SUMMARY:Übungsmöglichkeit Kugelschießen
DESCRIPTION:Der GKSS Schwarzenbach am Wald lädt alle Jägerinnen und Jäge
 r herzlich zu einem spannenden und praxisnahen Kugelschießen ein. Nutzen 
 Sie die Gelegenheit\, Ihre Schießfertigkeiten unter professionellen Bedin
 gungen zu verbessern und sich optimal auf die Jagdsaison vorzubereiten.\nP
 rogramm:\n\n 	Einweisung und Sicherheitsbelehrung: Einführung durch erfah
 rene Schießleiter.\n 	Schießübungen: Trainieren Sie das Schießen auf v
 erschiedene Entfernungen und Ziele.\n 	Wettbewerb: Ein kleiner freundschaf
 tlicher Wettkampf sorgt für Spannung und Austausch unter Gleichgesinnten.
 \n 	Tipps &amp\; Tricks: Professionelle Unterstützung für eine sichere u
 nd präzise Handhabung der Jagdwaffen.\n\nWichtige Hinweise:\n\n 	Teilnahm
 eberechtigt sind alle Vereinsmitglieder.\n 	Eigene Waffen und Munition sin
 d mitzubringen. Eine begrenzte Anzahl an Leihwaffen und Munition ist vor O
 rt verfügbar (bitte vorher anmelden).\n 	Bitte denken Sie an Gehörschutz
  und andere persönliche Schutzausrüstung.\n\nKosten:\nDie Schießstandge
 bührt und weitere Kosten sind vor Ort zu zahlen!\n\nWir freuen uns auf ei
 nen erfolgreichen Tag mit Ihnen und wünschen Ihnen schon jetzt "Waidmanns
 heil"!
ATTACH;FMTTYPE=image/jpeg:https://bjv-naila.de/wp-content/uploads/2024/10/
 IMG_3417.jpg
CATEGORIES:Schießübungen
LOCATION:GKSS 1. Großkaliber-Schützenverein Schwarzenbach / Wald\, Nordst
 raße 19\, Schwarzenbach am Wald\, 95131\, Deutschland
X-APPLE-STRUCTURED-LOCATION;VALUE=URI;X-ADDRESS=Nordstraße 19\, Schwarzenb
 ach am Wald\, 95131\, Deutschland;X-APPLE-RADIUS=100;X-TITLE=GKSS 1. Groß
 kaliber-Schützenverein Schwarzenbach / Wald:geo:0,0
END:VEVENT
END:VCALENDAR